BEGIN:VCALENDAR
VERSION:2.0
PRODID:-//ChamberMaster//Event Calendar 2.0//EN
METHOD:PUBLISH
X-PUBLISHED-TTL:P3D
REFRESH-INTERVAL:P3D
CALSCALE:GREGORIAN
BEGIN:VEVENT
DTSTART:20260305T163000Z
DTEND:20260305T190000Z
X-MICROSOFT-CDO-ALLDAYEVENT:FALSE
SUMMARY:Instagram Posts to Profits Part Two: Turning Video Into Visibility and Sales
DESCRIPTION:Instagram Posts to Profits Part Two\nReady to stop guessing and start creating Instagram content that actually works for your business? In this high-impact follow-up to Instagram Posts to Profits\, we move beyond theory and into the practical mechanics of creating scroll-stopping video.\n\n \n\nYou will learn how to strategically choose trending audio\, improve lighting instantly\, film with confidence\, and leverage powerful Instagram features like Trial Reels\, link tools\, and the Edits app to increase reach and engagement.\n\n \n\nWhether you attended Part One or are joining for the first time\, this workshop delivers clear\, actionable strategies you can implement immediately. You will leave with a stronger understanding of how to create polished\, professional Instagram video content that drives real visibility and momentum for your business.
X-ALT-DESC;FMTTYPE=text/html:<span style="font-size:14px\;"><span style="font-family:arial\;">Instagram Posts to Profits Part Two</span></span>\n<p style="margin-top:0in\;margin-right:0in\;margin-bottom:9.0pt\;margin-left:0in"><span style="font-size:15.0pt\;font-family:&quot\;Times New Roman&quot\;\,serif">Ready to stop guessing and start creating Instagram content that actually works for your business? In this high-impact follow-up to Instagram Posts to Profits\, we move beyond theory and into the practical mechanics of creating scroll-stopping video.</span><o:p></o:p></p>\n\n<p style="margin: 0in 0in 9pt\; font-size-adjust: none\; font-kerning: auto\; font-variant-alternates: normal\; font-variant-numeric: normal\; font-variant-east-asian: normal\; font-variant-position: normal\; font-variant-emoji: normal\; font-feature-settings: normal\; font-optical-sizing: auto\; font-variation-settings: normal\; -webkit-text-stroke-color: rgb(0\, 0\, 0)\; min-height: 13.8px\;"><span style="font-size:9.0pt\;font-family:&quot\;Times New Roman&quot\;\,serif">&nbsp\;</span></p>\n\n<p style="margin: 0in 0in 9pt\; font-size-adjust: none\; font-kerning: auto\; font-variant-alternates: normal\; font-variant-numeric: normal\; font-variant-east-asian: normal\; font-variant-position: normal\; font-variant-emoji: normal\; font-feature-settings: normal\; font-optical-sizing: auto\; font-variation-settings: normal\; -webkit-text-stroke-color: rgb(0\, 0\, 0)\;"><span style="font-kerning: none"><span style="font-size:15.0pt\;font-family:&quot\;Times New Roman&quot\;\,serif">You will learn how to strategically choose trending audio\, improve lighting instantly\, film with confidence\, and leverage powerful Instagram features like Trial Reels\, link tools\, and the Edits app to increase reach and engagement.</span><o:p></o:p></span></p>\n\n<p style="margin: 0in 0in 9pt\; font-size-adjust: none\; font-kerning: auto\; font-variant-alternates: normal\; font-variant-numeric: normal\; font-variant-east-asian: normal\; font-variant-position: normal\; font-variant-emoji: normal\; font-feature-settings: normal\; font-optical-sizing: auto\; font-variation-settings: normal\; -webkit-text-stroke-color: rgb(0\, 0\, 0)\; min-height: 13.8px\;"><span style="font-size:9.0pt\;font-family:&quot\;Times New Roman&quot\;\,serif">&nbsp\;</span></p>\n\n<p style="margin: 0in 0in 9pt\; font-size-adjust: none\; font-kerning: auto\; font-variant-alternates: normal\; font-variant-numeric: normal\; font-variant-east-asian: normal\; font-variant-position: normal\; font-variant-emoji: normal\; font-feature-settings: normal\; font-optical-sizing: auto\; font-variation-settings: normal\; -webkit-text-stroke-color: rgb(0\, 0\, 0)\;"><span style="font-kerning: none"><span style="font-size:15.0pt\;font-family:&quot\;Times New Roman&quot\;\,serif">Whether you attended Part One or are joining for the first time\, this workshop delivers clear\, actionable strategies you can implement immediately. You will leave with a stronger understanding of how to create polished\, professional Instagram video content that drives real visibility and momentum for your business.</span><o:p></o:p></span></p>\n
LOCATION:Munster Town Hall Main Meeting Room
UID:e.1835.5095
SEQUENCE:3
DTSTAMP:20260426T012531Z
URL:https://business.munsterchamber.org/events/details/instagram-posts-to-profits-part-two-turning-video-into-visibility-and-sales-5095
END:VEVENT

END:VCALENDAR
