BEGIN:VCALENDAR
VERSION:2.0
PRODID:-//ChamberMaster//Event Calendar 2.0//EN
METHOD:PUBLISH
X-PUBLISHED-TTL:P3D
REFRESH-INTERVAL:P3D
CALSCALE:GREGORIAN
BEGIN:VEVENT
DTSTART:20151112T230000Z
DTEND:20151113T010000Z
X-MICROSOFT-CDO-ALLDAYEVENT:FALSE
SUMMARY:Lifetime Creations Business After Hours
DESCRIPTION:Lifetime Creations Business After Hours   \n\n\n\nClick here to register online
X-ALT-DESC;FMTTYPE=text/html:Lifetime Creations Business After Hours&nbsp\;&nbsp\;&nbsp\;<br />\n<br />\n<a href="https://www.facebook.com/events/712219438878231">Click here to register online</a> &nbsp\;&nbsp\;
LOCATION:17838 Chappel Avenue Lansing\, IL 60438
UID:e.1835.3089
SEQUENCE:3
DTSTAMP:20260421T204013Z
URL:https://business.munsterchamber.org/events/details/lifetime-creations-business-after-hours-11-12-2015-3089
END:VEVENT

END:VCALENDAR
