BEGIN:VCALENDAR
VERSION:2.0
PRODID:-//ChamberMaster//Event Calendar 2.0//EN
METHOD:PUBLISH
X-PUBLISHED-TTL:P3D
REFRESH-INTERVAL:P3D
CALSCALE:GREGORIAN
BEGIN:VEVENT
DTSTART:20140729T210000Z
DTEND:20140730T000000Z
X-MICROSOFT-CDO-ALLDAYEVENT:FALSE
SUMMARY:Meet Mix and Mingle at Hartsfield Village
DESCRIPTION:Meet\, Mix and Mingle with friends and colleagues and get acquainted with Hartsfields's team of care professionals
X-ALT-DESC;FMTTYPE=text/html:Meet\, Mix and Mingle&nbsp\;with friends and colleagues and get acquainted with Hartsfields&#39\;s team of care professionals&nbsp\;&nbsp\;&nbsp\;&nbsp\;<br />\n&nbsp\;
LOCATION:Hartsfield Village 10000 Columbia Avenue Munster\, IN
UID:e.1835.516
SEQUENCE:3
DTSTAMP:20260422T143841Z
URL:https://business.munsterchamber.org/events/details/meet-mix-and-mingle-at-hartsfield-village-07-29-2014-516
END:VEVENT

END:VCALENDAR
