BEGIN:VCALENDAR
VERSION:2.0
PRODID:-//ChamberMaster//Event Calendar 2.0//EN
METHOD:PUBLISH
X-PUBLISHED-TTL:P3D
REFRESH-INTERVAL:P3D
CALSCALE:GREGORIAN
BEGIN:VEVENT
DTSTART:20160407T130000Z
DTEND:20160407T140000Z
X-MICROSOFT-CDO-ALLDAYEVENT:FALSE
SUMMARY:New Member Breakfast
DESCRIPTION:Ambassador sponsored monthly event to orient new members to the Munster Chamber programs and activities.  Each orientation will include general information and will feature ambassadors presenting information about the Munster Chamber and their role in it as well as information about their business.
X-ALT-DESC;FMTTYPE=text/html:Ambassador sponsored monthly event to orient new members to the Munster Chamber programs and activities.&nbsp\; Each orientation will include general information and will feature ambassadors presenting information about the Munster Chamber and their role in it as well as information about their business.
LOCATION:Commander Restaurant 745 Ridge Road Munster\, IN 46321
UID:e.1835.3051
SEQUENCE:3
DTSTAMP:20260421T130018Z
URL:https://business.munsterchamber.org/events/details/new-member-breakfast-04-07-2016-3051
END:VEVENT

END:VCALENDAR
