BEGIN:VCALENDAR
VERSION:2.0
PRODID:-//ChamberMaster//Event Calendar 2.0//EN
METHOD:PUBLISH
X-PUBLISHED-TTL:P3D
REFRESH-INTERVAL:P3D
CALSCALE:GREGORIAN
BEGIN:VEVENT
DTSTART:20150502T160000Z
DTEND:20150502T210000Z
X-MICROSOFT-CDO-ALLDAYEVENT:FALSE
SUMMARY:NORDIC FAIRE
DESCRIPTION:Saturday\, May 2 will find a Scandinavian Culture event in Munster. Food available (Swedish pancakes\, meatballs\, baked goods\, etc) Fun (Games for kids and adults) Booths (craft demonstrators and sales of Scandinavian items) Entertainment (Folk dancers\, Musicians\, Children's choir) Plus information about all of the Nordic countries (Sweden\, Norway\, Denmark\, Finland and Iceland
X-ALT-DESC;FMTTYPE=text/html:Saturday\, May 2 will find a Scandinavian Culture event in Munster. Food available (Swedish pancakes\, meatballs\, baked goods\, etc) Fun (Games for kids and adults) Booths (craft demonstrators and sales of Scandinavian items) Entertainment (Folk dancers\, Musicians\, Children&#39\;s choir) Plus information about all of the Nordic countries (Sweden\, Norway\, Denmark\, Finland and Iceland
LOCATION:Westminster Presbyterian Church 8955 Columbia Avenue Munster\, Indiana
UID:e.1835.2652
SEQUENCE:3
DTSTAMP:20260422T024121Z
URL:https://business.munsterchamber.org/events/details/nordic-faire-05-02-2015-2652
END:VEVENT

END:VCALENDAR
