BEGIN:VCALENDAR
VERSION:2.0
PRODID:-//ChamberMaster//Event Calendar 2.0//EN
METHOD:PUBLISH
X-PUBLISHED-TTL:P3D
REFRESH-INTERVAL:P3D
CALSCALE:GREGORIAN
BEGIN:VEVENT
DTSTART:20260224T213000Z
DTEND:20260224T233000Z
X-MICROSOFT-CDO-ALLDAYEVENT:FALSE
SUMMARY:Power Hour Meetup
DESCRIPTION:Power Hour Meetup\n\nTopic: Better brand photos with your phone\n\nPresented by: Mayra Perkins
X-ALT-DESC;FMTTYPE=text/html:Power Hour Meetup<br />\nTopic: Better brand photos with your phone<br />\nPresented by: Mayra Perkins&nbsp\;&nbsp\;<br />\n&nbsp\;
LOCATION:MegMade 9610 N Centennial Dr Munster\, IN
UID:e.1835.5094
SEQUENCE:3
DTSTAMP:20260426T024505Z
URL:https://business.munsterchamber.org/events/details/power-hour-meetup-5094
END:VEVENT

END:VCALENDAR
