BEGIN:VCALENDAR
VERSION:2.0
PRODID:-//ChamberMaster//Event Calendar 2.0//EN
METHOD:PUBLISH
X-PUBLISHED-TTL:P3D
REFRESH-INTERVAL:P3D
CALSCALE:GREGORIAN
BEGIN:VEVENT
DTSTART:20160115T140000Z
DTEND:20160115T150000Z
X-MICROSOFT-CDO-ALLDAYEVENT:FALSE
SUMMARY:Review Sign Ordiance
DESCRIPTION:Click to review sign ordinance draft  \n\n\n\nDiscussion regarding proposed sign ordinance
X-ALT-DESC;FMTTYPE=text/html:<a href="http://cloud.chambermaster.com/userfiles/UserFiles/chambers/1835/File/DraftSignOrdiance2016.pdf">Click to review sign ordinance draft&nbsp\;&nbsp\;</a><br />\n<br />\nDiscussion regarding proposed sign ordinance<br />\n&nbsp\;
LOCATION:The Commander Restaurant Munster\, IN
UID:e.1835.3235
SEQUENCE:3
DTSTAMP:20260421T180742Z
URL:https://business.munsterchamber.org/events/details/review-sign-ordiance-01-15-2016-3235
END:VEVENT

END:VCALENDAR
