BEGIN:VCALENDAR
VERSION:2.0
PRODID:-//ChamberMaster//Event Calendar 2.0//EN
METHOD:PUBLISH
X-PUBLISHED-TTL:P3D
REFRESH-INTERVAL:P3D
CALSCALE:GREGORIAN
BEGIN:VEVENT
DTSTART:20140723T130000Z
DTEND:20140724T011500Z
X-MICROSOFT-CDO-ALLDAYEVENT:FALSE
SUMMARY:Ribbon Cutting - Strack and Van Til
DESCRIPTION:Ribbon Cutting\n\nNewly remodeled Strack and Van Til\n\n12 Ridge Road\n\nMunster\, IN
X-ALT-DESC;FMTTYPE=text/html:Ribbon Cutting<br />\nNewly remodeled Strack and Van Til<br />\n12 Ridge Road<br />\nMunster\, IN&nbsp\;&nbsp\;&nbsp\;
LOCATION:12 Ridge Road Munster IN
UID:e.1835.518
SEQUENCE:3
DTSTAMP:20260422T143238Z
URL:https://business.munsterchamber.org/events/details/ribbon-cutting-strack-and-van-til-07-23-2014-518
END:VEVENT

END:VCALENDAR
