BEGIN:VCALENDAR
VERSION:2.0
PRODID:-//ChamberMaster//Event Calendar 2.0//EN
METHOD:PUBLISH
X-PUBLISHED-TTL:P3D
REFRESH-INTERVAL:P3D
CALSCALE:GREGORIAN
BEGIN:VEVENT
DTSTART:20140713T190000Z
DTEND:20140714T020000Z
X-MICROSOFT-CDO-ALLDAYEVENT:FALSE
SUMMARY:ROCKOPELLI Rockopelli Music Festival is an all-ages music fest to benefit local charity Planting Possibilities
DESCRIPTION:Rockopelli Music Festival is an all-ages music fest to benefit local charity Planting Possibilities
X-ALT-DESC;FMTTYPE=text/html:Rockopelli Music Festival is an all-ages music fest to benefit local charity Planting Possibilities
LOCATION:Main Square Gazebo 3001 Ridge Road (across from Our Lady of Grace Church)\, Highland\, Indiana 46322
UID:e.1835.510
SEQUENCE:3
DTSTAMP:20260422T154436Z
URL:https://business.munsterchamber.org/events/details/rockopelli-rockopelli-music-festival-is-an-all-ages-music-fest-to-benefit-local-charity-planting-possibilities-07-13-2014-510
END:VEVENT

END:VCALENDAR
