BEGIN:VCALENDAR
VERSION:2.0
PRODID:-//ChamberMaster//Event Calendar 2.0//EN
METHOD:PUBLISH
X-PUBLISHED-TTL:P3D
REFRESH-INTERVAL:P3D
CALSCALE:GREGORIAN
BEGIN:VEVENT
DTSTART:20160512T170000Z
DTEND:20160512T170000Z
X-MICROSOFT-CDO-ALLDAYEVENT:FALSE
SUMMARY:Rodgers & Hammerstein & Webber
DESCRIPTION:Enjoy an enchanted evening of iconic songs from the well-loved musicals of Rodgers & Hammerstein and Andrew Lloyd Webber.
X-ALT-DESC;FMTTYPE=text/html:Enjoy an enchanted evening of iconic songs from the well-loved musicals of Rodgers &amp\; Hammerstein and Andrew Lloyd Webber.
LOCATION:Star Plaza Theatre
UID:e.1835.2885
SEQUENCE:3
DTSTAMP:20260421T114745Z
URL:https://business.munsterchamber.org/events/details/rodgers-hammerstein-webber-05-12-2016-2885
END:VEVENT

END:VCALENDAR
