BEGIN:VCALENDAR
VERSION:2.0
PRODID:-//ChamberMaster//Event Calendar 2.0//EN
METHOD:PUBLISH
X-PUBLISHED-TTL:P3D
REFRESH-INTERVAL:P3D
CALSCALE:GREGORIAN
BEGIN:VEVENT
DTSTART:20150501T140000Z
DTEND:20150501T150000Z
X-MICROSOFT-CDO-ALLDAYEVENT:FALSE
SUMMARY:Schmooze Cruise Committee Meeting
DESCRIPTION:Schmmoze Cruise Committee will be meeting on Friday\, May 1 at 9 am in the Munster Chamber office.
X-ALT-DESC;FMTTYPE=text/html:Schmmoze Cruise Committee will be meeting on Friday\, May 1 at 9 am in the Munster Chamber office.
LOCATION:
UID:e.1835.2669
SEQUENCE:3
DTSTAMP:20260422T024411Z
URL:https://business.munsterchamber.org/events/details/schmooze-cruise-committee-meeting-05-01-2015-2669
END:VEVENT

END:VCALENDAR
