BEGIN:VCALENDAR
VERSION:2.0
PRODID:-//ChamberMaster//Event Calendar 2.0//EN
METHOD:PUBLISH
X-PUBLISHED-TTL:P3D
REFRESH-INTERVAL:P3D
CALSCALE:GREGORIAN
BEGIN:VEVENT
DTSTART:20160511T140000Z
DTEND:20160511T150000Z
X-MICROSOFT-CDO-ALLDAYEVENT:FALSE
SUMMARY:Schmooze Cruise Committee Meeting
DESCRIPTION:You are receiving the invite for the Schmooze Cruise committee meeting as a past committee member or because you expressed an interest in this committee.  Please let us know that you are able to attend by registering online.\n\n\n\nWe will be discussing boat\, bus\, music\, dj and promotion.  Please bring your ideas.\n\n\n\nThank You.
X-ALT-DESC;FMTTYPE=text/html:You are receiving the invite for the Schmooze Cruise committee meeting as a past committee member or because you expressed an interest in this committee.&nbsp\; Please let us know that you are able to attend by registering online.<br />\n<br />\nWe will be discussing boat\, bus\, music\, dj and promotion.&nbsp\; Please bring your ideas.<br />\n<br />\nThank You.
LOCATION:Munster Chamber of Commerce Munster Town Hall 1005 Ridge Road Munster\, IN
UID:e.1835.3270
SEQUENCE:3
DTSTAMP:20260421T115052Z
URL:https://business.munsterchamber.org/events/details/schmooze-cruise-committee-meeting-05-11-2016-3270
END:VEVENT

END:VCALENDAR
