BEGIN:VCALENDAR
VERSION:2.0
PRODID:-//ChamberMaster//Event Calendar 2.0//EN
METHOD:PUBLISH
X-PUBLISHED-TTL:P3D
REFRESH-INTERVAL:P3D
CALSCALE:GREGORIAN
BEGIN:VEVENT
DTSTART:20150603T140000Z
DTEND:20150603T150000Z
X-MICROSOFT-CDO-ALLDAYEVENT:FALSE
SUMMARY:Schmooze Cruise Committee Meeting
DESCRIPTION:
X-ALT-DESC;FMTTYPE=text/html:
LOCATION:
UID:e.1835.2877
SEQUENCE:3
DTSTAMP:20260422T013634Z
URL:https://business.munsterchamber.org/events/details/schmooze-cruise-committee-meeting-06-03-2015-2877
END:VEVENT

END:VCALENDAR
