BEGIN:VCALENDAR
VERSION:2.0
PRODID:-//ChamberMaster//Event Calendar 2.0//EN
METHOD:PUBLISH
X-PUBLISHED-TTL:P3D
REFRESH-INTERVAL:P3D
CALSCALE:GREGORIAN
BEGIN:VEVENT
DTSTART:20151214T143000Z
DTEND:20151214T160000Z
X-MICROSOFT-CDO-ALLDAYEVENT:FALSE
SUMMARY:Scholarship Committee Meeting
DESCRIPTION:Click here to review 2015 application\n\nClick here to review 2015 evaluation sheet
X-ALT-DESC;FMTTYPE=text/html:<a href="http://cloud.chambermaster.com/userfiles/UserFiles/chambers/1835/File/2015MunsterChamberofCommerceScholarshipEvaluation.docx">Click here to review 2015 application</a><br />\n<a href="http://cloud.chambermaster.com/userfiles/UserFiles/chambers/1835/File/2015ScholarshipApplicaitonnewdeadline.dotx">Click here to review 2015 evaluation sheet</a>
LOCATION:Munster Chamber of Commerce office
UID:e.1835.3217
SEQUENCE:3
DTSTAMP:20260421T192653Z
URL:https://business.munsterchamber.org/events/details/scholarship-committee-meeting-12-14-2015-3217
END:VEVENT

END:VCALENDAR
