BEGIN:VCALENDAR
VERSION:2.0
PRODID:-//ChamberMaster//Event Calendar 2.0//EN
METHOD:PUBLISH
X-PUBLISHED-TTL:P3D
REFRESH-INTERVAL:P3D
CALSCALE:GREGORIAN
BEGIN:VEVENT
DTSTART:20160621T180000Z
DTEND:20160621T210000Z
X-MICROSOFT-CDO-ALLDAYEVENT:FALSE
SUMMARY:SCORE
DESCRIPTION:SCORE Services Munster Satellite Office\n\nGenerational Hiring\n\nJim Hubbard
X-ALT-DESC;FMTTYPE=text/html:SCORE Services Munster Satellite Office<br />\nGenerational Hiring<br />\nJim Hubbard
LOCATION:1040 Ridge Road Munster\, IN 46321
UID:e.1835.3098
SEQUENCE:3
DTSTAMP:20260421T102722Z
URL:https://business.munsterchamber.org/events/details/score-06-21-2016-3098
END:VEVENT

END:VCALENDAR
