BEGIN:VCALENDAR
VERSION:2.0
PRODID:-//ChamberMaster//Event Calendar 2.0//EN
METHOD:PUBLISH
X-PUBLISHED-TTL:P3D
REFRESH-INTERVAL:P3D
CALSCALE:GREGORIAN
BEGIN:VEVENT
DTSTART:20151117T190000Z
DTEND:20151117T220000Z
X-MICROSOFT-CDO-ALLDAYEVENT:FALSE
SUMMARY:SCORE
DESCRIPTION:SCORE Services Munster Satellite Office
X-ALT-DESC;FMTTYPE=text/html:SCORE Services Munster Satellite Office
LOCATION:1040 Ridge Road Munster\, IN 46321
UID:e.1835.3091
SEQUENCE:3
DTSTAMP:20260421T192400Z
URL:https://business.munsterchamber.org/events/details/score-11-17-2015-3091
END:VEVENT

END:VCALENDAR
