BEGIN:VCALENDAR
VERSION:2.0
PRODID:-//ChamberMaster//Event Calendar 2.0//EN
METHOD:PUBLISH
X-PUBLISHED-TTL:P3D
REFRESH-INTERVAL:P3D
CALSCALE:GREGORIAN
BEGIN:VEVENT
DTSTART:20151211T140000Z
DTEND:20151211T150000Z
X-MICROSOFT-CDO-ALLDAYEVENT:FALSE
SUMMARY:SCORE recruitment team
DESCRIPTION:Reminder - We will be meeting at The Commander\n\n\n\nSCORE Munster Satellite office\n\n \n\nRecruitment Committee: specially selected people who exhibit a strong commitment to SCORE\, have a preference to work independently being self-motivated\, able to engage with potentials one on one and in a group\n\nPurpose:  Recruit Qualified Volunteers\n\nGoal: Recruit 11 Volunteers who are able to devote 3-6 hours per month\n\nDate: by June 2016\n\nJob Duties :\n\n	Make phone calls to potentials\n	Create presentation/ presentation package\n	Create Speaking Engagement schedule\, find venues\n	Create network of sources\n	Draw potentials through social media\n\nTime Requirements:\n\nBimonthly meetings with independent work / speaking events / one on ones between meetings
X-ALT-DESC;FMTTYPE=text/html:Reminder - We will be meeting at The Commander<br />\n<br />\nSCORE Munster Satellite office<br />\n&nbsp\;<br />\nRecruitment Committee: specially selected people who exhibit a strong commitment to SCORE\, have a preference to work independently being self-motivated\, able to engage with potentials one on one and in a group<br />\nPurpose:&nbsp\; Recruit Qualified Volunteers<br />\nGoal: Recruit 11 Volunteers who are able to devote 3-6 hours per month<br />\nDate: by June 2016<br />\nJob Duties :\n<ul>\n	<li>Make phone calls to potentials</li>\n	<li>Create presentation/ presentation package</li>\n	<li>Create Speaking Engagement schedule\, find venues</li>\n	<li>Create network of sources</li>\n	<li>Draw potentials through social media</li>\n</ul>\nTime Requirements:<br />\nBimonthly meetings with independent work / speaking events / one on ones between meetings
LOCATION:The Commander Restaurant
UID:e.1835.3218
SEQUENCE:3
DTSTAMP:20260421T192453Z
URL:https://business.munsterchamber.org/events/details/score-recruitment-team-12-11-2015-3218
END:VEVENT

END:VCALENDAR
