BEGIN:VCALENDAR
VERSION:2.0
PRODID:-//ChamberMaster//Event Calendar 2.0//EN
METHOD:PUBLISH
X-PUBLISHED-TTL:P3D
REFRESH-INTERVAL:P3D
CALSCALE:GREGORIAN
BEGIN:VEVENT
DTSTART:20150602T150000Z
DTEND:20150602T170000Z
X-MICROSOFT-CDO-ALLDAYEVENT:FALSE
SUMMARY:SCORE Volunteer Meeting
DESCRIPTION:SCORE Volunteers are needed.\n\nThis meeting will feature the SCORE District Director and members of the Valparaiso Chapter. \n\n\n\nWe will be informing people about the program\, commitment and the path we will be taking to establish a Chapter in Munster.
X-ALT-DESC;FMTTYPE=text/html:SCORE Volunteers are needed.<br />\nThis meeting will feature the SCORE District Director and members of the Valparaiso Chapter.&nbsp\;<br />\n<br />\nWe will be informing people about the program\, commitment and the path we will be taking to establish a Chapter in Munster.&nbsp\;
LOCATION:Center for Visual and Performing Arts Meeting Room - upper level behind box office 1040 Ridge Road Munster\, IN 46321
UID:e.1835.2667
SEQUENCE:3
DTSTAMP:20260422T013553Z
URL:https://business.munsterchamber.org/events/details/score-volunteer-meeting-06-02-2015-2667
END:VEVENT

END:VCALENDAR
