BEGIN:VCALENDAR
VERSION:2.0
PRODID:-//ChamberMaster//Event Calendar 2.0//EN
METHOD:PUBLISH
X-PUBLISHED-TTL:P3D
REFRESH-INTERVAL:P3D
CALSCALE:GREGORIAN
BEGIN:VEVENT
DTSTART:20150529T003000Z
DTEND:20150529T030000Z
X-MICROSOFT-CDO-ALLDAYEVENT:FALSE
SUMMARY:Supper Club - Big Fish
DESCRIPTION:Munster Chamber members can enjoy a relaxing evening out at the Theater!  Join a group of Chamber members for an evening of networking and entertainment. \n\n\n\nBig Fish is the deeply moving\, fantastical new Broadway musical BIG FISH is based on the celebrated novel by Daniel Wallace and the acclaimed film directed by Tim Burton. BIG FISH tells the magical heartfelt journey of traveling salesman Edward Bloom and his incredible\, larger-than-life stories about teenage encounters with a Witch\, a Giant\, a Mermaid and the love of his life. Fast forward to the present day?Edward Bloom's son\, Will\, prepares to be a father himself. Determined to find the truth behind his father's epic tales\, Will engages on a journey of his own.
X-ALT-DESC;FMTTYPE=text/html:<span style="language: en-US\;"><span style="font-size: 14pt\;"><span style="font-family: arial\;"><span style="color: black\;">Munster Chamber members can enjoy a relaxing evening out at the Theater!&nbsp\; Join a group of Chamber members for an evening of networking and entertainment.&nbsp\;<br />\n<br />\nBig Fish is the deeply moving\, fantastical new Broadway musical </span></span></span></span><span style="font-weight: bold\; language: en-US\;"><span style="font-size: 14pt\;"><span style="font-family: arial\;"><span style="color: black\;">BIG FISH</span></span></span></span><span style="language: en-US\;"><span style="font-size: 14pt\;"><span style="font-family: arial\;"><span style="color: black\;"> is based on the celebrated novel by Daniel Wallace and the acclaimed film directed by Tim Burton. </span></span></span></span><span style="font-weight: bold\; language: en-US\;"><span style="font-size: 14pt\;"><span style="font-family: arial\;"><span style="color: black\;">BIG FISH</span></span></span></span><span style="language: en-US\;"><span style="font-size: 14pt\;"><span style="font-family: arial\;"><span style="color: black\;"> tells the magical heartfelt journey of traveling salesman Edward Bloom and his incredible\, larger-than-life stories about teenage encounters with a Witch\, a Giant\, a Mermaid and the love of his life. Fast forward to the present day?Edward Bloom&#39\;s son\, Will\, prepares to be a father himself. Determined to find the truth behind his father&#39\;s epic tales\, Will engages on a journey of his own.</span></span></span></span><br />\n<br />\n&nbsp\;
LOCATION:Theatre at the Center 1040 Ridge Road Munster\, IN 46321
UID:e.1835.2661
SEQUENCE:3
DTSTAMP:20260422T024235Z
URL:https://business.munsterchamber.org/events/details/supper-club-big-fish-05-28-2015-2661
END:VEVENT

END:VCALENDAR
