BEGIN:VCALENDAR
VERSION:2.0
PRODID:-//ChamberMaster//Event Calendar 2.0//EN
METHOD:PUBLISH
X-PUBLISHED-TTL:P3D
REFRESH-INTERVAL:P3D
CALSCALE:GREGORIAN
BEGIN:VEVENT
DTSTART:20150911T233000Z
DTEND:20150912T040000Z
X-MICROSOFT-CDO-ALLDAYEVENT:FALSE
SUMMARY:SUPPER CLUB - The TOMFOOLERY SHOW - Ides of March
DESCRIPTION:The TOMFOOLERY SHOW Presents\n\nTHE IDES OF MARCH
X-ALT-DESC;FMTTYPE=text/html:The TOMFOOLERY SHOW Presents<br />\nTHE IDES OF MARCH
LOCATION:Villa Cesare\, Schererville\, IN
UID:e.1835.3021
SEQUENCE:3
DTSTAMP:20260421T220320Z
URL:https://business.munsterchamber.org/events/details/supper-club-the-tomfoolery-show-ides-of-march-09-11-2015-3021
END:VEVENT

END:VCALENDAR
