BEGIN:VCALENDAR
VERSION:2.0
PRODID:-//ChamberMaster//Event Calendar 2.0//EN
METHOD:PUBLISH
X-PUBLISHED-TTL:P3D
REFRESH-INTERVAL:P3D
CALSCALE:GREGORIAN
BEGIN:VEVENT
DTSTART:20160426T170000Z
DTEND:20160426T180000Z
X-MICROSOFT-CDO-ALLDAYEVENT:FALSE
SUMMARY:Thank You Lunch Committee Meeting
DESCRIPTION:Finalize Luncheon details\n\nStuff Thank You Goody Bags\n\nReview Program
X-ALT-DESC;FMTTYPE=text/html:Finalize Luncheon details<br />\nStuff Thank You Goody Bags<br />\nReview Program
LOCATION:
UID:e.1835.3256
SEQUENCE:3
DTSTAMP:20260421T141747Z
URL:https://business.munsterchamber.org/events/details/thank-you-lunch-committee-meeting-04-26-2016-3256
END:VEVENT

END:VCALENDAR
