BEGIN:VCALENDAR
VERSION:2.0
PRODID:-//ChamberMaster//Event Calendar 2.0//EN
METHOD:PUBLISH
X-PUBLISHED-TTL:P3D
REFRESH-INTERVAL:P3D
CALSCALE:GREGORIAN
BEGIN:VEVENT
DTSTART:20160427T164500Z
DTEND:20160427T180000Z
X-MICROSOFT-CDO-ALLDAYEVENT:FALSE
SUMMARY:Thank Your Luncheon 2016
DESCRIPTION:Celebrate your Staff\, Vendors and co-workers at the \n\nAnnual Thank You Luncheon   \n\nOutstanding Entertainment provided by Tomfoolery Fun Club\n\nWonderful Meal\n\nDoor Prizes and Goody Bags!
X-ALT-DESC;FMTTYPE=text/html:Celebrate your Staff\, Vendors and co-workers at the&nbsp\;<br />\nAnnual Thank You Luncheon&nbsp\;&nbsp\;&nbsp\;<br />\nOutstanding Entertainment provided by Tomfoolery Fun Club<br />\nWonderful Meal<br />\nDoor Prizes and Goody Bags!
LOCATION:Center for Visual and Performing Arts 1040 Ridge Road Munster\, IN 46321
UID:e.1835.3214
SEQUENCE:3
DTSTAMP:20260421T130055Z
URL:https://business.munsterchamber.org/events/details/thank-your-luncheon-2016-04-27-2016-3214
END:VEVENT

END:VCALENDAR
