BEGIN:VCALENDAR
VERSION:2.0
PRODID:-//ChamberMaster//Event Calendar 2.0//EN
METHOD:PUBLISH
X-PUBLISHED-TTL:P3D
REFRESH-INTERVAL:P3D
CALSCALE:GREGORIAN
BEGIN:VEVENT
DTSTART:20150825T133000Z
DTEND:20150825T143000Z
X-MICROSOFT-CDO-ALLDAYEVENT:FALSE
SUMMARY:Touchdown Chili Committee Meeting
DESCRIPTION:Chili committee meeting. \n\nAgenda Draft link - http://cloud.chambermaster.com/userfiles/UserFiles/chambers/1835/File/chilicookoffmeeting08.25.15.docx
X-ALT-DESC;FMTTYPE=text/html:Chili committee meeting.&nbsp\;<br />\nAgenda Draft link - <a href="http://cloud.chambermaster.com/userfiles/UserFiles/chambers/1835/File/chilicookoffmeeting08.25.15.docx">http://cloud.chambermaster.com/userfiles/UserFiles/chambers/1835/File/chilicookoffmeeting08.25.15.docx</a>
LOCATION:Center for Visual and Performing Arts
UID:e.1835.2879
SEQUENCE:3
DTSTAMP:20260421T230416Z
URL:https://business.munsterchamber.org/events/details/touchdown-chili-committee-meeting-08-25-2015-2879
END:VEVENT

END:VCALENDAR
