BEGIN:VCALENDAR
VERSION:2.0
PRODID:-//ChamberMaster//Event Calendar 2.0//EN
METHOD:PUBLISH
X-PUBLISHED-TTL:P3D
REFRESH-INTERVAL:P3D
CALSCALE:GREGORIAN
BEGIN:VEVENT
DTSTART:20160628T130000Z
DTEND:20160628T140000Z
X-MICROSOFT-CDO-ALLDAYEVENT:FALSE
SUMMARY:Touchdown Chili Cookoff Committee meeting
DESCRIPTION:PLEASE CONFIRM YOUR ATTENDANCE\n\n\n\nPlanning meeting for the 2016 Chili Cook off
X-ALT-DESC;FMTTYPE=text/html:PLEASE CONFIRM YOUR ATTENDANCE<br />\n<br />\nPlanning meeting for the 2016 Chili Cook off
LOCATION:
UID:e.1835.3337
SEQUENCE:3
DTSTAMP:20260421T115028Z
URL:https://business.munsterchamber.org/events/details/touchdown-chili-cookoff-committee-meeting-06-28-2016-3337
END:VEVENT

END:VCALENDAR
