BEGIN:VCALENDAR
VERSION:2.0
PRODID:-//ChamberMaster//Event Calendar 2.0//EN
METHOD:PUBLISH
X-PUBLISHED-TTL:P3D
REFRESH-INTERVAL:P3D
CALSCALE:GREGORIAN
BEGIN:VEVENT
DTSTART:20150922T210000Z
DTEND:20150922T230000Z
X-MICROSOFT-CDO-ALLDAYEVENT:FALSE
SUMMARY:Yes\, & Then.... Workshop
DESCRIPTION:Essential Presentation Skills Workshop
X-ALT-DESC;FMTTYPE=text/html:Essential Presentation Skills Workshop
LOCATION:Indiana Tech 9245 Calumet Avenue Munster\, IN
UID:e.1835.2672
SEQUENCE:3
DTSTAMP:20260421T230126Z
URL:https://business.munsterchamber.org/events/details/yes-then-workshop-09-22-2015-2672
END:VEVENT

END:VCALENDAR
