BEGIN:VCALENDAR
VERSION:2.0
PRODID:-//ChamberMaster//Event Calendar 2.0//EN
METHOD:PUBLISH
X-PUBLISHED-TTL:P3D
REFRESH-INTERVAL:P3D
CALSCALE:GREGORIAN
BEGIN:VEVENT
DTSTART:20160517T220000Z
DTEND:20160518T000000Z
X-MICROSOFT-CDO-ALLDAYEVENT:FALSE
SUMMARY:Young Professional Group
DESCRIPTION:You are invited to the Munster Chamber of Commerce inaugural meeting of the Young Professional Group. \n\n\n\nDante's House of Pizza\n\n1734 45th Ave\n\nMunster\, IN\n\n\n\n5 pm - 7 pm\n\n\n\nPrice $20 per person which includes 2 beverages\, appetizers and pizza \n\n\n\nTom Byelick\,\n\nFounder of Yes\, and then.../Tomfoolery Fun Club\n\n will present a fun ice breaker to introduce the members of the group. \n\n\n\nFuture meeting will feature relevant topics regarding emails\, business etiquette and more!\n\n\n\nThis group will be meeting 4 times throughout each year. \n\n\n\nThe purpose is to encourage networking beyond social media among the region up and comers. \n\n\n\nYou are encouraged to invite your peers or other professionals you believe will benefit from this organization.
X-ALT-DESC;FMTTYPE=text/html:<span style="color:black\;"><span style="font-family:times new roman\,serif\;"><span style="font-size:12.0pt\;">You are invited to the Munster Chamber of Commerce inaugural meeting of the Young Professional Group.&nbsp\;<br />\n<br />\nDante&#39\;s House of Pizza<br />\n1734 45th Ave<br />\nMunster\, IN<br />\n<br />\n5 pm - 7 pm<br />\n<br />\nPrice $20 per person which includes 2 beverages\, appetizers and pizza&nbsp\;<br />\n<br />\nTom Byelick\,<br />\nFounder of Yes\, and then.../Tomfoolery Fun Club<br />\n&nbsp\;will present a fun ice breaker to introduce the members of the group.&nbsp\;<br />\n<br />\nFuture meeting will feature relevant topics regarding emails\, business etiquette and more!<br />\n<br />\nThis group will be meeting 4 times throughout each year.&nbsp\;<br />\n<br />\nThe purpose is to encourage networking beyond social media among the region up and comers.&nbsp\;<br />\n<br />\nYou are encouraged to invite your peers or other professionals you believe will benefit from this organization.</span></span></span>
LOCATION:
UID:e.1835.3250
SEQUENCE:3
DTSTAMP:20260421T114654Z
URL:https://business.munsterchamber.org/events/details/young-professional-group-05-17-2016-3250
END:VEVENT

END:VCALENDAR
